BEGIN:VCALENDAR
VERSION:2.0
PRODID:-//eventon.com NONSGML v1.0//EN
BEGIN:VEVENT
UID:69eb9c774de77
DTSTAMP:20260424T163815
DTSTART:20200625T133000Z
DTEND:20200625T173000Z
LOCATION:
SUMMARY:ORDINE DEI GEOLOGI SARDEGNA – WEBINAR Gratuito: ”DIFESA DEL SUOLO E DISSESTO IDROGEOLOGICO – Dalle azioni preventive agli interventi strutturali Casi pratici e nuove tecnologie a confronto” – 4 CFP
DESCRIPTION: Presentazione Il webinar propone una panoramica di alcune tecnologie applicabili al settore della difesa de suolo e del dissesto idrogeologico\,  presentando sia aspetti tecnico normativi che applicativi. Programma 13:30 – 14:00 TEST CONNESSIONE PARTECIPANTI 14:00 – 14:45 Soluzioni geosintetiche nell'ambito degli interventi per la difesa del suolo (M. Nart) 14:45[..]
END:VEVENT
END:VCALENDAR