BEGIN:VCALENDAR
VERSION:2.0
PRODID:-//eventon.com NONSGML v1.0//EN
BEGIN:VEVENT
UID:69e88c90cf8ff
DTSTAMP:20260422T085336
DTSTART:20150623T144500Z
DTEND:20151206T180000Z
LOCATION:
SUMMARY:Seminario Micropali tubolari
DESCRIPTION: L' Ordine degli Ingegneri di Rovigo organizza il seminario: I   MICROPALI INETTATI TUBOLARI COMPOSITI A PERFORAZIONE DIRETTA –  PROGETTO\,  DIMENSIONAMENTO ED ESECUZIONE Numero massimo di partecipanti: 200 Evento Gratuito CFP: 3 &nbsp;
END:VEVENT
END:VCALENDAR